BEGIN:VCALENDAR
VERSION:2.0
PRODID:-//Konica Minolta - ECPv6.15.20//NONSGML v1.0//EN
CALSCALE:GREGORIAN
METHOD:PUBLISH
X-ORIGINAL-URL:https://kmbs.konicaminolta.us
X-WR-CALDESC:Events for Konica Minolta
REFRESH-INTERVAL;VALUE=DURATION:PT1H
X-Robots-Tag:noindex
X-PUBLISHED-TTL:PT1H
BEGIN:VTIMEZONE
TZID:America/New_York
BEGIN:DAYLIGHT
TZOFFSETFROM:-0500
TZOFFSETTO:-0400
TZNAME:EDT
DTSTART:20240310T070000
END:DAYLIGHT
BEGIN:STANDARD
TZOFFSETFROM:-0400
TZOFFSETTO:-0500
TZNAME:EST
DTSTART:20241103T060000
END:STANDARD
BEGIN:DAYLIGHT
TZOFFSETFROM:-0500
TZOFFSETTO:-0400
TZNAME:EDT
DTSTART:20250309T070000
END:DAYLIGHT
BEGIN:STANDARD
TZOFFSETFROM:-0400
TZOFFSETTO:-0500
TZNAME:EST
DTSTART:20251102T060000
END:STANDARD
BEGIN:DAYLIGHT
TZOFFSETFROM:-0500
TZOFFSETTO:-0400
TZNAME:EDT
DTSTART:20260308T070000
END:DAYLIGHT
BEGIN:STANDARD
TZOFFSETFROM:-0400
TZOFFSETTO:-0500
TZNAME:EST
DTSTART:20261101T060000
END:STANDARD
END:VTIMEZONE
BEGIN:VEVENT
DTSTART;TZID=America/New_York:20250428T080000
DTEND;TZID=America/New_York:20250501T170000
DTSTAMP:20260424T141918
CREATED:20250402T204557Z
LAST-MODIFIED:20250402T204600Z
UID:10000110-1745827200-1746118800@kmbs.konicaminolta.us
SUMMARY:CCISDA Spring Conference
DESCRIPTION:Konica Minolta is proud to be a Platinum Sponsor of the 2025 CCISDA Spring Conference\, designed exclusively for county IT\, network\, and other top-level IT management in California.    \n\n\n\n\n\nStop by booth #219 to see how document management should be—intuitive\, efficient\, and built for the way government works. Instantly store\, find\, and access critical records\, and simplify licensing and permitting with a faster\, more transparent process.  \n\n\n\n\n\nRethink the digital experience for employees and constituents alike—visit us at Booth #219.  \n\n\n\n\n\nTo learn more about the 2025 CCISDA Spring Conference\, visit: https://ccisda.org/event/25SpringConf  
URL:https://kmbs.konicaminolta.us/event/ccisda/
LOCATION:Everline Resort & Spa\, 400 Resort Road\, Olympic Valley\, California\, 96146\, United States
END:VEVENT
BEGIN:VEVENT
DTSTART;TZID=America/New_York:20250501T080000
DTEND;TZID=America/New_York:20250501T150000
DTSTAMP:20260424T141918
CREATED:20250407T190113Z
LAST-MODIFIED:20250407T190117Z
UID:10000112-1746086400-1746111600@kmbs.konicaminolta.us
SUMMARY:MASSBUYS EXPO
DESCRIPTION:Konica Minolta is proud to be a Silver Sponsor of MASSBUYS EXPO 2025\, designed exclusively for Commonwealth Statewide Contractors and public purchasing and procurement officials.    \n\n\n\n\n\nStop by booth #1235 to learn about our solutions and services to help you streamline operations and improve the experiences for those you serve. This year\, we will highlight our advanced records management and production print solutions exclusively designed for the government.    \n\n\n\n\n\nTo learn more about the MASSBUYS EXPO 2025\, visit: https://www.mass.gov/massbuys-expo
URL:https://kmbs.konicaminolta.us/event/massbuys-expo/
LOCATION:Gillette Stadium\, 1 Patriot Place \, Foxborough\, Massachusetts\, 02035\, United States
END:VEVENT
END:VCALENDAR