BEGIN:VCALENDAR
VERSION:2.0
PRODID:-//Konica Minolta - ECPv6.15.20//NONSGML v1.0//EN
CALSCALE:GREGORIAN
METHOD:PUBLISH
X-ORIGINAL-URL:https://kmbs.konicaminolta.us
X-WR-CALDESC:Events for Konica Minolta
REFRESH-INTERVAL;VALUE=DURATION:PT1H
X-Robots-Tag:noindex
X-PUBLISHED-TTL:PT1H
BEGIN:VTIMEZONE
TZID:America/New_York
BEGIN:DAYLIGHT
TZOFFSETFROM:-0500
TZOFFSETTO:-0400
TZNAME:EDT
DTSTART:20240310T070000
END:DAYLIGHT
BEGIN:STANDARD
TZOFFSETFROM:-0400
TZOFFSETTO:-0500
TZNAME:EST
DTSTART:20241103T060000
END:STANDARD
BEGIN:DAYLIGHT
TZOFFSETFROM:-0500
TZOFFSETTO:-0400
TZNAME:EDT
DTSTART:20250309T070000
END:DAYLIGHT
BEGIN:STANDARD
TZOFFSETFROM:-0400
TZOFFSETTO:-0500
TZNAME:EST
DTSTART:20251102T060000
END:STANDARD
BEGIN:DAYLIGHT
TZOFFSETFROM:-0500
TZOFFSETTO:-0400
TZNAME:EDT
DTSTART:20260308T070000
END:DAYLIGHT
BEGIN:STANDARD
TZOFFSETFROM:-0400
TZOFFSETTO:-0500
TZNAME:EST
DTSTART:20261101T060000
END:STANDARD
END:VTIMEZONE
BEGIN:VEVENT
DTSTART;TZID=America/New_York:20250521T080000
DTEND;TZID=America/New_York:20250521T162000
DTSTAMP:20260424T142029
CREATED:20250505T155522Z
LAST-MODIFIED:20250505T155525Z
UID:10000116-1747814400-1747844400@kmbs.konicaminolta.us
SUMMARY:Arizona Digital Government Summit
DESCRIPTION:Konica Minolta is proud to unveil BlueIrisIQ™ — the new identity for our intelligent information management services at the Arizona Digital Government Summit. A day where public sector leaders and technology experts of the Grand Canyon come together to solve the real challenges of modern governance. \n\n\n\n\n\nVisit us to experience advanced scanning solutions\, powerful workflow automation\, and state-adopted contract services—all under our new brand\, with the same commitment to results.
URL:https://kmbs.konicaminolta.us/event/digital-government-summit-az/
LOCATION:Hyatt Regency Phoenix\, 122 N 2nd Street\, Phoenix\, Arizona\, 85004\, United States
END:VEVENT
BEGIN:VEVENT
DTSTART;TZID=America/New_York:20250521T080000
DTEND;TZID=America/New_York:20250521T163000
DTSTAMP:20260424T142029
CREATED:20250505T155833Z
LAST-MODIFIED:20250505T155837Z
UID:10000117-1747814400-1747845000@kmbs.konicaminolta.us
SUMMARY:Massachusetts IT Leadership Forum
DESCRIPTION:BlueIrisIQ™— Konica Minolta’s Intelligent Information Management team is heading to the Massachusetts IT Leadership Forum\, where tech innovation meets public sector solutions.  \n\n\n\n\n\nJoin us at this premier event where leaders from government and technology come together to drive meaningful change and solve complex challenges. 
URL:https://kmbs.konicaminolta.us/event/it-leadership-forum-ma/
LOCATION:Westin Waltham Boston\, 70 3rd Ave\, Waltham\, Massachusetts\, 02451\, United States
END:VEVENT
END:VCALENDAR