BEGIN:VCALENDAR
VERSION:2.0
PRODID:-//Konica Minolta - ECPv6.15.20//NONSGML v1.0//EN
CALSCALE:GREGORIAN
METHOD:PUBLISH
X-ORIGINAL-URL:https://kmbs.konicaminolta.us
X-WR-CALDESC:Events for Konica Minolta
REFRESH-INTERVAL;VALUE=DURATION:PT1H
X-Robots-Tag:noindex
X-PUBLISHED-TTL:PT1H
BEGIN:VTIMEZONE
TZID:America/New_York
BEGIN:DAYLIGHT
TZOFFSETFROM:-0500
TZOFFSETTO:-0400
TZNAME:EDT
DTSTART:20240310T070000
END:DAYLIGHT
BEGIN:STANDARD
TZOFFSETFROM:-0400
TZOFFSETTO:-0500
TZNAME:EST
DTSTART:20241103T060000
END:STANDARD
BEGIN:DAYLIGHT
TZOFFSETFROM:-0500
TZOFFSETTO:-0400
TZNAME:EDT
DTSTART:20250309T070000
END:DAYLIGHT
BEGIN:STANDARD
TZOFFSETFROM:-0400
TZOFFSETTO:-0500
TZNAME:EST
DTSTART:20251102T060000
END:STANDARD
BEGIN:DAYLIGHT
TZOFFSETFROM:-0500
TZOFFSETTO:-0400
TZNAME:EDT
DTSTART:20260308T070000
END:DAYLIGHT
BEGIN:STANDARD
TZOFFSETFROM:-0400
TZOFFSETTO:-0500
TZNAME:EST
DTSTART:20261101T060000
END:STANDARD
END:VTIMEZONE
BEGIN:VEVENT
DTSTART;TZID=America/New_York:20250608T080000
DTEND;TZID=America/New_York:20250612T170000
DTSTAMP:20260424T122708
CREATED:20250605T181227Z
LAST-MODIFIED:20250605T181230Z
UID:10000122-1749369600-1749747600@kmbs.konicaminolta.us
SUMMARY:IPMA Educational Conference 2025
DESCRIPTION:Founded in 1964\, the In-Plant Printing and Mailing Association (IPMA) is the only professional association dedicated exclusively to meeting the needs of all segments in-house printers and mailers. IPMA is the largest In-plant event for all sectors of the In-plant industry-print and mail. ​The nearly 700 members of IPMA are managers and directors from in-plant printing and mailing facilities throughout the United States.​ \n\n\n\n\n\nJoin us at Booths 209 and 308 to explore how partnering with Konica Minolta can help you conquer new applications and boost your operations to new heights with digital production print. \n\n\n\n\n\nFrank Mallozzi\, President of Industrial and Production Print at Konica Minolta\, will be a keynote speaker on June 9th at 9:00am\, discussing how to lead transformation in the in-plant era\, with a focus on how digital production print technologies are reshaping workflows with personalized\, sustainable print solutions. \n\n\n\n\n\nIn addition\, Dr. Mark Bohan\, Director of Color Solutions at Konica Minolta\, will be a panelist on the June 10th panel at 8:45am\, discussing how production print vendors will support in-plants with AI\, and will also lead a presentation titled Creating a Vibrant Future for In-House Printing Plants at 10:45am on June 11th. Don’t miss the insight from these compelling thought leaders.  \n\n\n\n\n\nLearn more about IPMA here.
URL:https://kmbs.konicaminolta.us/event/ipma/
LOCATION:Davenport Grand Hotel\, 333 W Spokane Falls Blvd\, Spokane\, Washington\, 99201\, United States
END:VEVENT
BEGIN:VEVENT
DTSTART;TZID=America/New_York:20250610T080000
DTEND;TZID=America/New_York:20250612T170000
DTSTAMP:20260424T122708
CREATED:20250324T193826Z
LAST-MODIFIED:20250324T193829Z
UID:10000109-1749542400-1749747600@kmbs.konicaminolta.us
SUMMARY:AMPLIFY – The Finishing\, Packaging and Design Event
DESCRIPTION:Amplify brings print finishing and embellishments to the forefront. Showcasing the brands\, products and processes raising the standard for foil and coatings\, diecutting\, folding and gluing\, binding\, direct mail and more. Experience live equipment demonstrations\, connect with leading brands and learn from industry experts. \n\n\n\n\n\nKonica Minolta is a proud “Bronze Sponsor” – visit us at Booth 4517 in the Exhibit Hall! As the only OEM with a full portfolio of sheetfed\, roll-to-roll\, and printing-integrated embellishment solutions\, we will be onsite ready to share how adding value to print generates more profit for your business! Stop by\, pick up some fun giveaways and learn how our scalable solutions – from the AccurioShine 3600 to the JETvarnish 3D Web 400 – provide limitless digital embellishment applications. Turn your evolving customer needs into exciting new growth opportunities! \n\n\n\n\n\nLearn more about AMPLIFY here.
URL:https://kmbs.konicaminolta.us/event/amplify-print-2025/
LOCATION:Donald E. Stephens Convention Center\, 5555 N River Rd\, Rosemont\, Illinois\, 60018\, United States
END:VEVENT
END:VCALENDAR