BEGIN:VCALENDAR
VERSION:2.0
PRODID:-//Konica Minolta - ECPv6.15.20//NONSGML v1.0//EN
CALSCALE:GREGORIAN
METHOD:PUBLISH
X-ORIGINAL-URL:https://kmbs.konicaminolta.us
X-WR-CALDESC:Events for Konica Minolta
REFRESH-INTERVAL;VALUE=DURATION:PT1H
X-Robots-Tag:noindex
X-PUBLISHED-TTL:PT1H
BEGIN:VTIMEZONE
TZID:America/New_York
BEGIN:DAYLIGHT
TZOFFSETFROM:-0500
TZOFFSETTO:-0400
TZNAME:EDT
DTSTART:20240310T070000
END:DAYLIGHT
BEGIN:STANDARD
TZOFFSETFROM:-0400
TZOFFSETTO:-0500
TZNAME:EST
DTSTART:20241103T060000
END:STANDARD
BEGIN:DAYLIGHT
TZOFFSETFROM:-0500
TZOFFSETTO:-0400
TZNAME:EDT
DTSTART:20250309T070000
END:DAYLIGHT
BEGIN:STANDARD
TZOFFSETFROM:-0400
TZOFFSETTO:-0500
TZNAME:EST
DTSTART:20251102T060000
END:STANDARD
BEGIN:DAYLIGHT
TZOFFSETFROM:-0500
TZOFFSETTO:-0400
TZNAME:EDT
DTSTART:20260308T070000
END:DAYLIGHT
BEGIN:STANDARD
TZOFFSETFROM:-0400
TZOFFSETTO:-0500
TZNAME:EST
DTSTART:20261101T060000
END:STANDARD
END:VTIMEZONE
BEGIN:VEVENT
DTSTART;TZID=America/New_York:20250716T080000
DTEND;TZID=America/New_York:20250716T170000
DTSTAMP:20260424T103831
CREATED:20250505T160112Z
LAST-MODIFIED:20250505T160115Z
UID:10000118-1752652800-1752685200@kmbs.konicaminolta.us
SUMMARY:Florida Digital Government Summit
DESCRIPTION:Konica Minolta’s BlueIrisIQ™ is excited to join the Florida Digital Government Summit\, where innovation meets efficiency in the heart of the Sunshine State.  \n\n\n\n\n\nAt this event\, public sector leaders and tech professionals collaborate to tackle real government challenges.  \n\n\n\n\n\nVisit us to experience cutting-edge scanning\, next-gen workflow automation\, and state-approved contract management solutions—all designed to make digital transformation smoother and faster. 
URL:https://kmbs.konicaminolta.us/event/digital-government-summit-fl/
LOCATION:Donald L Tucker Civic Center\, 505 Pensacola Street\, Tallahassee\, Florida\, 32301\, United States
END:VEVENT
END:VCALENDAR