BEGIN:VCALENDAR
VERSION:2.0
PRODID:-//Konica Minolta - ECPv6.15.20//NONSGML v1.0//EN
CALSCALE:GREGORIAN
METHOD:PUBLISH
X-ORIGINAL-URL:https://kmbs.konicaminolta.us
X-WR-CALDESC:Events for Konica Minolta
REFRESH-INTERVAL;VALUE=DURATION:PT1H
X-Robots-Tag:noindex
X-PUBLISHED-TTL:PT1H
BEGIN:VTIMEZONE
TZID:America/New_York
BEGIN:DAYLIGHT
TZOFFSETFROM:-0500
TZOFFSETTO:-0400
TZNAME:EDT
DTSTART:20240310T070000
END:DAYLIGHT
BEGIN:STANDARD
TZOFFSETFROM:-0400
TZOFFSETTO:-0500
TZNAME:EST
DTSTART:20241103T060000
END:STANDARD
BEGIN:DAYLIGHT
TZOFFSETFROM:-0500
TZOFFSETTO:-0400
TZNAME:EDT
DTSTART:20250309T070000
END:DAYLIGHT
BEGIN:STANDARD
TZOFFSETFROM:-0400
TZOFFSETTO:-0500
TZNAME:EST
DTSTART:20251102T060000
END:STANDARD
BEGIN:DAYLIGHT
TZOFFSETFROM:-0500
TZOFFSETTO:-0400
TZNAME:EDT
DTSTART:20260308T070000
END:DAYLIGHT
BEGIN:STANDARD
TZOFFSETFROM:-0400
TZOFFSETTO:-0500
TZNAME:EST
DTSTART:20261101T060000
END:STANDARD
END:VTIMEZONE
BEGIN:VEVENT
DTSTART;TZID=America/New_York:20250727T080000
DTEND;TZID=America/New_York:20250730T170000
DTSTAMP:20260424T071940
CREATED:20250604T200003Z
LAST-MODIFIED:20250604T200008Z
UID:10000121-1753603200-1753894800@kmbs.konicaminolta.us
SUMMARY:NIGP Forum 2025
DESCRIPTION:NIGP Forum 2025 celebrates 80 years of public procurement excellence. With an outstanding lineup of keynote speakers\, exceptional learning and networking sessions\, and opportunities to celebrate individual and collective achievements\, this year’s Forum promises to be one for the ages. \n\n\n\n\n\nVisit us at Booth #706 to learn how Konica Minolta’s broad portfolio of production print solutions can streamline your operations. \n\n\n\n\n\nLearn more about NIGP Forum here.
URL:https://kmbs.konicaminolta.us/event/nigp/
LOCATION:Denver Convention Center\, 700 14th St\, Denver\, Colorado\, 80202\, United States
END:VEVENT
END:VCALENDAR