BEGIN:VCALENDAR
VERSION:2.0
PRODID:-//Konica Minolta - ECPv6.15.20//NONSGML v1.0//EN
CALSCALE:GREGORIAN
METHOD:PUBLISH
X-ORIGINAL-URL:https://kmbs.konicaminolta.us
X-WR-CALDESC:Events for Konica Minolta
REFRESH-INTERVAL;VALUE=DURATION:PT1H
X-Robots-Tag:noindex
X-PUBLISHED-TTL:PT1H
BEGIN:VTIMEZONE
TZID:America/New_York
BEGIN:DAYLIGHT
TZOFFSETFROM:-0500
TZOFFSETTO:-0400
TZNAME:EDT
DTSTART:20240310T070000
END:DAYLIGHT
BEGIN:STANDARD
TZOFFSETFROM:-0400
TZOFFSETTO:-0500
TZNAME:EST
DTSTART:20241103T060000
END:STANDARD
BEGIN:DAYLIGHT
TZOFFSETFROM:-0500
TZOFFSETTO:-0400
TZNAME:EDT
DTSTART:20250309T070000
END:DAYLIGHT
BEGIN:STANDARD
TZOFFSETFROM:-0400
TZOFFSETTO:-0500
TZNAME:EST
DTSTART:20251102T060000
END:STANDARD
BEGIN:DAYLIGHT
TZOFFSETFROM:-0500
TZOFFSETTO:-0400
TZNAME:EDT
DTSTART:20260308T070000
END:DAYLIGHT
BEGIN:STANDARD
TZOFFSETFROM:-0400
TZOFFSETTO:-0500
TZNAME:EST
DTSTART:20261101T060000
END:STANDARD
END:VTIMEZONE
BEGIN:VEVENT
DTSTART;TZID=America/New_York:20250204T080000
DTEND;TZID=America/New_York:20250206T170000
DTSTAMP:20260424T174520
CREATED:20241219T023032Z
LAST-MODIFIED:20241219T023035Z
UID:10000103-1738656000-1738861200@kmbs.konicaminolta.us
SUMMARY:International FASTSIGNS® Convention 2025
DESCRIPTION:FASTSIGNS®\, the leader in the custom signs and visual solutions industry\, is holding its 2025 FASTSIGNS International Convention in Las Vegas\, NV. This multi-day event brings together vendors and attendees from across the industry for educational sessions and networking opportunities. The theme is Be All In.  \n\n\n\n\n\nCome place your bets with Konica Minolta at Booth #807! As a leader in the print industry\, we will be onsite at the Vendor Show to share the latest products and services available for wide format. Let’s discuss how we can help your business grow!  \n\n\n\n\n\nLearn more about 2025 FASTSIGNS® International Convention here.
URL:https://kmbs.konicaminolta.us/event/fastsigns-2025/
LOCATION:Caesars Forum Conference Center\, 13911 S Koval Ln\, Las Vegas\, Nevada\, 89109\, United States
END:VEVENT
BEGIN:VEVENT
DTSTART;TZID=America/New_York:20250204T140000
DTEND;TZID=America/New_York:20250204T150000
DTSTAMP:20260424T174520
CREATED:20250114T202102Z
LAST-MODIFIED:20250114T203257Z
UID:10000104-1738677600-1738681200@kmbs.konicaminolta.us
SUMMARY:Virtual Event: Unlock the Power of Direct Mail Marketing
DESCRIPTION:Stand up and stand out! Go beyond the inbox and discover why 73% of consumers prefer direct mail advertising over online interactions. With the right printing techniques\, you can create new opportunities and bring digital printing to life for your customers while keeping costs down. Join Konica Minolta’s Print Solutions and TEC Mailing Experts for an exciting session on how to leverage direct mail marketing to drive your business growth – the possibilities are unlimited! 
URL:https://kmbs.konicaminolta.us/event/unlock-the-power-of-direct-mail-marketing/
LOCATION:https://kmbs.konicaminolta.us/event/unlock-the-power-of-direct-mail-marketing/
END:VEVENT
END:VCALENDAR