BEGIN:VCALENDAR
VERSION:2.0
PRODID:-//Konica Minolta - ECPv6.15.20//NONSGML v1.0//EN
CALSCALE:GREGORIAN
METHOD:PUBLISH
X-ORIGINAL-URL:https://kmbs.konicaminolta.us
X-WR-CALDESC:Events for Konica Minolta
REFRESH-INTERVAL;VALUE=DURATION:PT1H
X-Robots-Tag:noindex
X-PUBLISHED-TTL:PT1H
BEGIN:VTIMEZONE
TZID:America/New_York
BEGIN:DAYLIGHT
TZOFFSETFROM:-0500
TZOFFSETTO:-0400
TZNAME:EDT
DTSTART:20240310T070000
END:DAYLIGHT
BEGIN:STANDARD
TZOFFSETFROM:-0400
TZOFFSETTO:-0500
TZNAME:EST
DTSTART:20241103T060000
END:STANDARD
BEGIN:DAYLIGHT
TZOFFSETFROM:-0500
TZOFFSETTO:-0400
TZNAME:EDT
DTSTART:20250309T070000
END:DAYLIGHT
BEGIN:STANDARD
TZOFFSETFROM:-0400
TZOFFSETTO:-0500
TZNAME:EST
DTSTART:20251102T060000
END:STANDARD
BEGIN:DAYLIGHT
TZOFFSETFROM:-0500
TZOFFSETTO:-0400
TZNAME:EDT
DTSTART:20260308T070000
END:DAYLIGHT
BEGIN:STANDARD
TZOFFSETFROM:-0400
TZOFFSETTO:-0500
TZNAME:EST
DTSTART:20261101T060000
END:STANDARD
END:VTIMEZONE
BEGIN:VEVENT
DTSTART;TZID=America/New_York:20250730T080000
DTEND;TZID=America/New_York:20250802T170000
DTSTAMP:20260424T042401
CREATED:20250623T192810Z
LAST-MODIFIED:20250623T192813Z
UID:10000123-1753862400-1754154000@kmbs.konicaminolta.us
SUMMARY:Minuteman Press International 2025 World Expo
DESCRIPTION:Minuteman Press International 2025 World Expo is a company-wide gathering of Minuteman Press franchise owners around the world\, hosted this year at Caesars Palace in dazzling Las Vegas\, Nevada. The complete conference will take place from July 30th to August 2nd\, while the vendor show runs for three half days between Wednesday\, July 30th\, and Friday\, August 1st. Konica Minolta will showcase a wide variety of production print solutions designed to streamline your operations with automation and maximize efficiency for your business.  \n\n\n\n\n\nDon’t miss our grand prize at the Gala Awards Banquet Dinner\, the CMYK cut-sheet toner AccurioPress C7090! Make an impactful impression – one after another – as your opportunities grow with a press that works smarter\, not harder. Optimize your print performance\, offer advanced and creative print possibilities\, and see your business flourish.  \n\n\n\n\n\nLearn more about the Minuteman Press Expo here.
URL:https://kmbs.konicaminolta.us/event/minuteman-press-expo/
LOCATION:Caesars Palace\, 3570 S Las Vegas Blvd\, Paradise\, Nevada\, 89109\, United States
END:VEVENT
BEGIN:VEVENT
DTSTART;TZID=America/New_York:20250822T080000
DTEND;TZID=America/New_York:20250825T170000
DTSTAMP:20260424T042401
CREATED:20250521T153616Z
LAST-MODIFIED:20250715T151515Z
UID:10000120-1755849600-1756141200@kmbs.konicaminolta.us
SUMMARY:NGAUS (National Guard) General Conference & Exhibition
DESCRIPTION:The NGAUS General Conference & Exhibition is the Association’s annual business meeting. Army and Air National Guard officers from all 50 states\, three territories and the District of Columbia gather to network\, set their legislative agenda and hear from America’s civilian and military leaders. Family members\, industry representatives and local officials also attend.  \n\n\n\n\n\nVisit us at Booth #1557 to learn how Konica Minolta’s broad portfolio of production print solutions can streamline your operations.   \n\n\n\n\n\nLearn more about the 147th NGAUS General Conference & Exhibition here.
URL:https://kmbs.konicaminolta.us/event/ngaus/
LOCATION:Baird Center\, 400 West Wisconsin Avenue\, Milwaukee\, Wisconsin\, 53203\, United States
END:VEVENT
END:VCALENDAR