BEGIN:VCALENDAR
VERSION:2.0
PRODID:-//Konica Minolta - ECPv6.15.20//NONSGML v1.0//EN
CALSCALE:GREGORIAN
METHOD:PUBLISH
X-ORIGINAL-URL:https://kmbs.konicaminolta.us
X-WR-CALDESC:Events for Konica Minolta
REFRESH-INTERVAL;VALUE=DURATION:PT1H
X-Robots-Tag:noindex
X-PUBLISHED-TTL:PT1H
BEGIN:VTIMEZONE
TZID:America/New_York
BEGIN:DAYLIGHT
TZOFFSETFROM:-0500
TZOFFSETTO:-0400
TZNAME:EDT
DTSTART:20240310T070000
END:DAYLIGHT
BEGIN:STANDARD
TZOFFSETFROM:-0400
TZOFFSETTO:-0500
TZNAME:EST
DTSTART:20241103T060000
END:STANDARD
BEGIN:DAYLIGHT
TZOFFSETFROM:-0500
TZOFFSETTO:-0400
TZNAME:EDT
DTSTART:20250309T070000
END:DAYLIGHT
BEGIN:STANDARD
TZOFFSETFROM:-0400
TZOFFSETTO:-0500
TZNAME:EST
DTSTART:20251102T060000
END:STANDARD
BEGIN:DAYLIGHT
TZOFFSETFROM:-0500
TZOFFSETTO:-0400
TZNAME:EDT
DTSTART:20260308T070000
END:DAYLIGHT
BEGIN:STANDARD
TZOFFSETFROM:-0400
TZOFFSETTO:-0500
TZNAME:EST
DTSTART:20261101T060000
END:STANDARD
END:VTIMEZONE
BEGIN:VEVENT
DTSTART;TZID=America/New_York:20250917T080000
DTEND;TZID=America/New_York:20250917T170000
DTSTAMP:20260424T025049
CREATED:20250505T160421Z
LAST-MODIFIED:20250505T160424Z
UID:10000119-1758096000-1758128400@kmbs.konicaminolta.us
SUMMARY:Michigan Digital Government Summit
DESCRIPTION:Konica Minolta’s BlueIrisIQ™ team is bringing powerful\, intelligent information management solutions to the Michigan Digital Government Summit.  \n\n\n\n\n\nWe’re excited to be part of this exciting event where public sector leaders and technology experts come together to innovate and drive impactful change in government operations.  \n\n\n\n\n\nVisit us to learn about our advanced scanning capabilities\, seamless workflow automation\, and state-adopted contract management solutions designed to make digital transformation effortless. 
URL:https://kmbs.konicaminolta.us/event/digital-government-summit-mi/
LOCATION:Lansing Center\, 333 E Michigan Ave\, Lansing\, Michigan\, 48933\, United States
END:VEVENT
END:VCALENDAR